BEGIN:VCALENDAR
VERSION:2.0
PRODID:-//Roc &amp; Mer - ECPv6.2.3.2//NONSGML v1.0//EN
CALSCALE:GREGORIAN
METHOD:PUBLISH
X-ORIGINAL-URL:https://rocetmer.fr
X-WR-CALDESC:évènements pour Roc &amp; Mer
REFRESH-INTERVAL;VALUE=DURATION:PT1H
X-Robots-Tag:noindex
X-PUBLISHED-TTL:PT1H
BEGIN:VTIMEZONE
TZID:Europe/Paris
BEGIN:DAYLIGHT
TZOFFSETFROM:+0100
TZOFFSETTO:+0200
TZNAME:CEST
DTSTART:20230326T010000
END:DAYLIGHT
BEGIN:STANDARD
TZOFFSETFROM:+0200
TZOFFSETTO:+0100
TZNAME:CET
DTSTART:20231029T010000
END:STANDARD
END:VTIMEZONE
BEGIN:VEVENT
DTSTART;TZID=Europe/Paris:20231202T090000
DTEND;TZID=Europe/Paris:20231202T163000
DTSTAMP:20260420T164824
CREATED:20231113T131133Z
LAST-MODIFIED:20231113T131133Z
UID:1174-1701507600-1701534600@rocetmer.fr
SUMMARY:Sortie Jeunes Modjo
DESCRIPTION:Inscription sur la fiche au club
URL:https://rocetmer.fr/event/sortie-jeunes-modjo/
ORGANIZER;CN="Roc et Mer":MAILTO:president@rocetmer.fr
END:VEVENT
BEGIN:VEVENT
DTSTART;TZID=Europe/Paris:20231207T190000
DTEND;TZID=Europe/Paris:20231207T230000
DTSTAMP:20260420T164824
CREATED:20231114T120023Z
LAST-MODIFIED:20231114T120023Z
UID:1207-1701975600-1701990000@rocetmer.fr
SUMMARY:Montagne en Scène - Winter Edition
DESCRIPTION:Festival Montagne en Scène à Dinard ! Inscriptions par ici !
URL:https://rocetmer.fr/event/montagne-en-scene-winter-edition/
END:VEVENT
BEGIN:VEVENT
DTSTART;TZID=Europe/Paris:20231209T220000
DTEND;TZID=Europe/Paris:20231210T060000
DTSTAMP:20260420T164824
CREATED:20231114T120907Z
LAST-MODIFIED:20231114T120907Z
UID:1205-1702159200-1702188000@rocetmer.fr
SUMMARY:Nuit de la grimpe organisée par Mewen Escalade afin de soutenir le Téléthon
DESCRIPTION:
URL:https://rocetmer.fr/event/nuit-de-la-grimpe-organisee-par-mewen-escalade-afin-de-soutenir-le-telethon/
END:VEVENT
BEGIN:VEVENT
DTSTART;TZID=Europe/Paris:20231215T190000
DTEND;TZID=Europe/Paris:20231215T210000
DTSTAMP:20260420T164824
CREATED:20231113T130738Z
LAST-MODIFIED:20231113T130738Z
UID:1168-1702666800-1702674000@rocetmer.fr
SUMMARY:Bloc de Noël Adultes
DESCRIPTION:
URL:https://rocetmer.fr/event/bloc-de-noel-adultes/
ORGANIZER;CN="Roc et Mer":MAILTO:president@rocetmer.fr
END:VEVENT
BEGIN:VEVENT
DTSTART;TZID=Europe/Paris:20231216T093000
DTEND;TZID=Europe/Paris:20231216T123000
DTSTAMP:20260420T164824
CREATED:20231113T130814Z
LAST-MODIFIED:20231113T130814Z
UID:1170-1702719000-1702729800@rocetmer.fr
SUMMARY:Bloc de Noël Jeunes
DESCRIPTION:
URL:https://rocetmer.fr/event/bloc-de-noel-jeunes/
ORGANIZER;CN="Roc et Mer":MAILTO:president@rocetmer.fr
END:VEVENT
BEGIN:VEVENT
DTSTART;VALUE=DATE:20231223
DTEND;VALUE=DATE:20231224
DTSTAMP:20260420T164824
CREATED:20231113T130848Z
LAST-MODIFIED:20231113T130848Z
UID:1172-1703289600-1703375999@rocetmer.fr
SUMMARY:Pas de cours !!
DESCRIPTION:
URL:https://rocetmer.fr/event/pas-de-cours/
ORGANIZER;CN="Roc et Mer":MAILTO:president@rocetmer.fr
END:VEVENT
END:VCALENDAR