BEGIN:VCALENDAR
VERSION:2.0
PRODID:-//Roc &amp; Mer - ECPv6.2.3.2//NONSGML v1.0//EN
CALSCALE:GREGORIAN
METHOD:PUBLISH
X-WR-CALNAME:Roc &amp; Mer
X-ORIGINAL-URL:https://rocetmer.fr
X-WR-CALDESC:évènements pour Roc &amp; Mer
REFRESH-INTERVAL;VALUE=DURATION:PT1H
X-Robots-Tag:noindex
X-PUBLISHED-TTL:PT1H
BEGIN:VTIMEZONE
TZID:Europe/Paris
BEGIN:DAYLIGHT
TZOFFSETFROM:+0100
TZOFFSETTO:+0200
TZNAME:CEST
DTSTART:20230326T010000
END:DAYLIGHT
BEGIN:STANDARD
TZOFFSETFROM:+0200
TZOFFSETTO:+0100
TZNAME:CET
DTSTART:20231029T010000
END:STANDARD
END:VTIMEZONE
BEGIN:VEVENT
DTSTART;VALUE=DATE:20231023
DTEND;VALUE=DATE:20231028
DTSTAMP:20260420T213130
CREATED:20231013T104401Z
LAST-MODIFIED:20231014T142507Z
UID:1127-1698019200-1698451199@rocetmer.fr
SUMMARY:Stage Jeunes Diff/Bloc à Noyal sur Vilaine
DESCRIPTION:Pour plus d’infos\, c’est ici
URL:https://rocetmer.fr/event/stage-jeunes-diff-bloc-a-noyal-sur-vilaine/
LOCATION:Salle Vitalia – Noyal-sur-Vilaine\, 4F69+5Q\, Noyal-sur-Vilaine\, 35530\, France
ORGANIZER;CN="CT35":MAILTO:v.rousson@ct35.ffme.fr
END:VEVENT
END:VCALENDAR